BEGIN:VCALENDAR
VERSION:2.0
PRODID:-//Aprender Haciendo - ECPv6.3.2//NONSGML v1.0//EN
CALSCALE:GREGORIAN
METHOD:PUBLISH
X-ORIGINAL-URL:https://videorams.news
X-WR-CALDESC:Eventos para Aprender Haciendo
REFRESH-INTERVAL;VALUE=DURATION:PT1H
X-Robots-Tag:noindex
X-PUBLISHED-TTL:PT1H
BEGIN:VTIMEZONE
TZID:UTC
BEGIN:STANDARD
TZOFFSETFROM:+0000
TZOFFSETTO:+0000
TZNAME:UTC
DTSTART:20240101T000000
END:STANDARD
END:VTIMEZONE
BEGIN:VEVENT
DTSTART;TZID=UTC:20240605T080000
DTEND;TZID=UTC:20240606T170000
DTSTAMP:20260425T165006
CREATED:20240209T135737Z
LAST-MODIFIED:20240209T135737Z
UID:1194-1717574400-1717693200@videorams.news
SUMMARY:Congreso Latinoamaricano de Mantenimiento Industrial
DESCRIPTION:
URL:https://videorams.news/event/congreso-latinoamaricano-de-mantenimiento-industrial-2
END:VEVENT
BEGIN:VEVENT
DTSTART;TZID=UTC:20240623T000000
DTEND;TZID=UTC:20240623T000000
DTSTAMP:20260425T165006
CREATED:20240209T122854Z
LAST-MODIFIED:20240209T122854Z
UID:1156-1719100800-1719100800@videorams.news
SUMMARY:ESREL 2024
DESCRIPTION:
URL:https://videorams.news/event/esrel-2024-2
END:VEVENT
BEGIN:VEVENT
DTSTART;TZID=UTC:20240722T000000
DTEND;TZID=UTC:20240722T000000
DTSTAMP:20260425T165006
CREATED:20240209T122856Z
LAST-MODIFIED:20240209T122856Z
UID:1159-1721606400-1721606400@videorams.news
SUMMARY:CMC Colombia 2024
DESCRIPTION:
URL:https://videorams.news/event/cmc-colombia-2024-2
END:VEVENT
BEGIN:VEVENT
DTSTART;TZID=UTC:20240726T080000
DTEND;TZID=UTC:20240727T170000
DTSTAMP:20260425T165006
CREATED:20240209T133541Z
LAST-MODIFIED:20240209T133541Z
UID:1179-1721980800-1722099600@videorams.news
SUMMARY:International Conference on Structural Reliability and Sensitivity Analysis ICSRSA
DESCRIPTION:
URL:https://videorams.news/event/international-conference-on-structural-reliability-and-sensitivity-analysis-icsrsa
END:VEVENT
BEGIN:VEVENT
DTSTART;TZID=UTC:20240819T080000
DTEND;TZID=UTC:20240820T170000
DTSTAMP:20260425T165006
CREATED:20240209T133756Z
LAST-MODIFIED:20240209T133756Z
UID:1181-1724054400-1724173200@videorams.news
SUMMARY:International Conference on e-Design and Reliability-Based Design ICEDRBD
DESCRIPTION:
URL:https://videorams.news/event/international-conference-on-e-design-and-reliability-based-design-icedrbd
END:VEVENT
BEGIN:VEVENT
DTSTART;TZID=UTC:20240819T080000
DTEND;TZID=UTC:20240820T170000
DTSTAMP:20260425T165006
CREATED:20240209T133919Z
LAST-MODIFIED:20240209T133919Z
UID:1183-1724054400-1724173200@videorams.news
SUMMARY:International Conference on Reliability and Safety ICRS
DESCRIPTION:
URL:https://videorams.news/event/international-conference-on-reliability-and-safety-icrs
END:VEVENT
BEGIN:VEVENT
DTSTART;TZID=UTC:20240902T000000
DTEND;TZID=UTC:20240902T000000
DTSTAMP:20260425T165006
CREATED:20240209T122855Z
LAST-MODIFIED:20240209T122855Z
UID:1158-1725235200-1725235200@videorams.news
SUMMARY:CMC Mexico 2024
DESCRIPTION:
URL:https://videorams.news/event/cmc-mexico-2024-3
END:VEVENT
BEGIN:VEVENT
DTSTART;TZID=UTC:20241111T000000
DTEND;TZID=UTC:20241111T000000
DTSTAMP:20260425T165006
CREATED:20240209T122047Z
LAST-MODIFIED:20240209T122856Z
UID:1148-1731283200-1731283200@videorams.news
SUMMARY:CMC Chile 2024
DESCRIPTION:
URL:https://videorams.news/event/cmc-chile-2024-2
END:VEVENT
BEGIN:VEVENT
DTSTART;TZID=UTC:20241209T080000
DTEND;TZID=UTC:20241210T170000
DTSTAMP:20260425T165006
CREATED:20240209T134136Z
LAST-MODIFIED:20240209T134136Z
UID:1185-1733731200-1733850000@videorams.news
SUMMARY:International Conference on Simulation-Based Reliability Assessment and Applications ICSBRAA
DESCRIPTION:
URL:https://videorams.news/event/international-conference-on-simulation-based-reliability-assessment-and-applications-icsbraa
END:VEVENT
BEGIN:VEVENT
DTSTART;TZID=UTC:20241209T080000
DTEND;TZID=UTC:20241210T170000
DTSTAMP:20260425T165006
CREATED:20240209T134305Z
LAST-MODIFIED:20240209T134305Z
UID:1187-1733731200-1733850000@videorams.news
SUMMARY:International Conference on Simulation-Based Reliability Methods and Structural Design ICSBRMSD
DESCRIPTION:
URL:https://videorams.news/event/international-conference-on-simulation-based-reliability-methods-and-structural-design-icsbrmsd
END:VEVENT
BEGIN:VEVENT
DTSTART;TZID=UTC:20241209T080000
DTEND;TZID=UTC:20241210T170000
DTSTAMP:20260425T165006
CREATED:20240209T134443Z
LAST-MODIFIED:20240209T134443Z
UID:1189-1733731200-1733850000@videorams.news
SUMMARY:International Conference on Simulation-Based Reliability Assessment ICSBRA
DESCRIPTION:
URL:https://videorams.news/event/international-conference-on-simulation-based-reliability-assessment-icsbra
END:VEVENT
BEGIN:VEVENT
DTSTART;TZID=UTC:20250127T000000
DTEND;TZID=UTC:20250127T000000
DTSTAMP:20260425T165006
CREATED:20240209T122854Z
LAST-MODIFIED:20240209T122854Z
UID:1155-1737936000-1737936000@videorams.news
SUMMARY:71st Annual RAMS 2025
DESCRIPTION:
URL:https://videorams.news/event/71st-annual-rams-2025-3
END:VEVENT
END:VCALENDAR