BEGIN:VCALENDAR
VERSION:2.0
PRODID:-//Aprender Haciendo - ECPv6.3.2//NONSGML v1.0//EN
CALSCALE:GREGORIAN
METHOD:PUBLISH
X-ORIGINAL-URL:https://videorams.news
X-WR-CALDESC:Eventos para Aprender Haciendo
REFRESH-INTERVAL;VALUE=DURATION:PT1H
X-Robots-Tag:noindex
X-PUBLISHED-TTL:PT1H
BEGIN:VTIMEZONE
TZID:UTC
BEGIN:STANDARD
TZOFFSETFROM:+0000
TZOFFSETTO:+0000
TZNAME:UTC
DTSTART:20240101T000000
END:STANDARD
END:VTIMEZONE
BEGIN:VEVENT
DTSTART;TZID=UTC:20240422T080000
DTEND;TZID=UTC:20240423T170000
DTSTAMP:20260425T164037
CREATED:20240209T133334Z
LAST-MODIFIED:20240209T133334Z
UID:1177-1713772800-1713891600@videorams.news
SUMMARY:International Conference on Electrical and Electronic Reliability ICEER
DESCRIPTION:
URL:https://videorams.news/event/international-conference-on-electrical-and-electronic-reliability-iceer
END:VEVENT
END:VCALENDAR