BEGIN:VCALENDAR
VERSION:2.0
PRODID:-//Aprender Haciendo - ECPv6.3.2//NONSGML v1.0//EN
CALSCALE:GREGORIAN
METHOD:PUBLISH
X-WR-CALNAME:Aprender Haciendo
X-ORIGINAL-URL:https://videorams.news
X-WR-CALDESC:Eventos para Aprender Haciendo
REFRESH-INTERVAL;VALUE=DURATION:PT1H
X-Robots-Tag:noindex
X-PUBLISHED-TTL:PT1H
BEGIN:VTIMEZONE
TZID:UTC
BEGIN:STANDARD
TZOFFSETFROM:+0000
TZOFFSETTO:+0000
TZNAME:UTC
DTSTART:20240101T000000
END:STANDARD
END:VTIMEZONE
BEGIN:VEVENT
DTSTART;VALUE=DATE:20240411
DTEND;VALUE=DATE:20240412
DTSTAMP:20260425T181105
CREATED:20240209T131724Z
LAST-MODIFIED:20240209T131724Z
UID:1167-1712793600-1712879999@videorams.news
SUMMARY:4ª Jornadas sobre Fiabilidad en el Mantenimiento: Sesión Online
DESCRIPTION:
URL:https://videorams.news/event/4a-jornadas-sobre-fiabilidad-en-el-mantenimiento-sesion-online-2
END:VEVENT
END:VCALENDAR