BEGIN:VCALENDAR
VERSION:2.0
PRODID:-//Aprender Haciendo - ECPv6.3.2//NONSGML v1.0//EN
CALSCALE:GREGORIAN
METHOD:PUBLISH
X-WR-CALNAME:Aprender Haciendo
X-ORIGINAL-URL:https://videorams.news
X-WR-CALDESC:Eventos para Aprender Haciendo
REFRESH-INTERVAL;VALUE=DURATION:PT1H
X-Robots-Tag:noindex
X-PUBLISHED-TTL:PT1H
BEGIN:VTIMEZONE
TZID:UTC
BEGIN:STANDARD
TZOFFSETFROM:+0000
TZOFFSETTO:+0000
TZNAME:UTC
DTSTART:20240101T000000
END:STANDARD
END:VTIMEZONE
BEGIN:VEVENT
DTSTART;VALUE=DATE:20240229
DTEND;VALUE=DATE:20240301
DTSTAMP:20260425T180849
CREATED:20240209T131242Z
LAST-MODIFIED:20240209T141025Z
UID:1160-1709164800-1709251199@videorams.news
SUMMARY:18ª Jornada sobre Mantenimiento en el sector Energía (AEM)
DESCRIPTION:
URL:https://videorams.news/event/18a-jornada-sobre-mantenimiento-en-el-sector-energia-aem
END:VEVENT
END:VCALENDAR